BEGIN:VCALENDAR
VERSION:2.0
PRODID:-//Norfolk Advanced Motorcyclists - ECPv6.15.20//NONSGML v1.0//EN
CALSCALE:GREGORIAN
METHOD:PUBLISH
X-ORIGINAL-URL:https://n-a-m.co.uk
X-WR-CALDESC:Events for Norfolk Advanced Motorcyclists
REFRESH-INTERVAL;VALUE=DURATION:PT1H
X-Robots-Tag:noindex
X-PUBLISHED-TTL:PT1H
BEGIN:VTIMEZONE
TZID:UTC
BEGIN:STANDARD
TZOFFSETFROM:+0000
TZOFFSETTO:+0000
TZNAME:UTC
DTSTART:20220101T000000
END:STANDARD
END:VTIMEZONE
BEGIN:VEVENT
DTSTART;TZID=UTC:20230813T090000
DTEND;TZID=UTC:20230813T120000
DTSTAMP:20260422T130352
CREATED:20230808T070311Z
LAST-MODIFIED:20230816T150021Z
UID:1618-1691917200-1691928000@n-a-m.co.uk
SUMMARY:NAM Organised Sunday Ride to Thorpness
DESCRIPTION:The Kitchen\, Thorpeness 70mi 2h10\nObserver RM
URL:https://n-a-m.co.uk/event/sunday-rides/
CATEGORIES:Sunday rides
END:VEVENT
BEGIN:VEVENT
DTSTART;TZID=UTC:20230820T090000
DTEND;TZID=UTC:20230820T120000
DTSTAMP:20260422T130352
CREATED:20230808T071139Z
LAST-MODIFIED:20230816T150103Z
UID:1625-1692522000-1692532800@n-a-m.co.uk
SUMMARY:NAM Organised Sunday Ride to Sizewell Beach Cafe
DESCRIPTION:Sizewell Beach Cafe\, Sizewell 60mi 1h40\nObservers PS.JD JS.MT \n 
URL:https://n-a-m.co.uk/event/sunday-ride-sizewell/
CATEGORIES:Sunday rides
END:VEVENT
BEGIN:VEVENT
DTSTART;TZID=UTC:20230827T090000
DTEND;TZID=UTC:20230827T120000
DTSTAMP:20260422T130352
CREATED:20230808T071542Z
LAST-MODIFIED:20230816T150131Z
UID:1627-1693126800-1693137600@n-a-m.co.uk
SUMMARY:NAM Organised Sunday Ride to Cafe 33\, Stradishall
DESCRIPTION:Cafe 33\, Stradishall 65mi 2h00\nObserver JS
URL:https://n-a-m.co.uk/event/sunday-ride-stradishall/
CATEGORIES:Sunday rides
END:VEVENT
END:VCALENDAR