BEGIN:VCALENDAR
VERSION:2.0
PRODID:-//Norfolk Advanced Motorcyclists - ECPv6.15.20//NONSGML v1.0//EN
CALSCALE:GREGORIAN
METHOD:PUBLISH
X-ORIGINAL-URL:https://n-a-m.co.uk
X-WR-CALDESC:Events for Norfolk Advanced Motorcyclists
REFRESH-INTERVAL;VALUE=DURATION:PT1H
X-Robots-Tag:noindex
X-PUBLISHED-TTL:PT1H
BEGIN:VTIMEZONE
TZID:UTC
BEGIN:STANDARD
TZOFFSETFROM:+0000
TZOFFSETTO:+0000
TZNAME:UTC
DTSTART:20220101T000000
END:STANDARD
END:VTIMEZONE
BEGIN:VEVENT
DTSTART;TZID=UTC:20230903T090000
DTEND;TZID=UTC:20230903T120000
DTSTAMP:20260422T113420
CREATED:20230808T071806Z
LAST-MODIFIED:20230816T150155Z
UID:1629-1693731600-1693742400@n-a-m.co.uk
SUMMARY:NAM Organised Sunday Ride to the Kingfisher Cafe\, North Walcott
DESCRIPTION:03.09.23 Kingfisher Cafe\, North Walcott 55mi 1h45 \nObservers JY.MT PW.AL
URL:https://n-a-m.co.uk/event/sunday-ride-northwalcott/
CATEGORIES:Sunday rides
END:VEVENT
BEGIN:VEVENT
DTSTART;TZID=UTC:20230910T090000
DTEND;TZID=UTC:20230910T120000
DTSTAMP:20260422T113420
CREATED:20230816T144933Z
LAST-MODIFIED:20230816T150220Z
UID:1693-1694336400-1694347200@n-a-m.co.uk
SUMMARY:NAM Organised Sunday Ride to the Lake House Cafe\, Stowmarket
DESCRIPTION:10.09.23 Lake House Cafe\, Stowmarket 65mi 2h05\nObserver AW
URL:https://n-a-m.co.uk/event/nam-organised-sunday-ride-to-the-lake-house-cafe-stowmarket/
CATEGORIES:Sunday rides
END:VEVENT
BEGIN:VEVENT
DTSTART;TZID=UTC:20230917T090000
DTEND;TZID=UTC:20230917T120000
DTSTAMP:20260422T113420
CREATED:20230816T145816Z
LAST-MODIFIED:20230816T150241Z
UID:1696-1694941200-1694952000@n-a-m.co.uk
SUMMARY:NAM Organised Sunday Ride to Kings Head Cafe\, Shipdham
DESCRIPTION:17.09.23 Kings Head Cafe\, Shipdham 60mi 1h40\nObservers JS.MY DW.SL
URL:https://n-a-m.co.uk/event/nam-organised-sunday-ride-to-kings-head-cafe-shipdham/
CATEGORIES:Sunday rides
END:VEVENT
BEGIN:VEVENT
DTSTART;TZID=UTC:20230924T090000
DTEND;TZID=UTC:20230924T120000
DTSTAMP:20260422T113420
CREATED:20230816T151101Z
LAST-MODIFIED:20230816T151122Z
UID:1705-1695546000-1695556800@n-a-m.co.uk
SUMMARY:NAM Organised Sunday Ride to Riverside Tearoom\, South Orford
DESCRIPTION:24.09.23 Riverside Tearoom\, South Orford 65mi 1h50\nObservers PS.JD JS.MT
URL:https://n-a-m.co.uk/event/nam-organised-sunday-ride-to-riverside-tearoom-south-orford/
CATEGORIES:Sunday rides
END:VEVENT
END:VCALENDAR