BEGIN:VCALENDAR
VERSION:2.0
PRODID:-//Norfolk Advanced Motorcyclists - ECPv6.15.20//NONSGML v1.0//EN
CALSCALE:GREGORIAN
METHOD:PUBLISH
X-WR-CALNAME:Norfolk Advanced Motorcyclists
X-ORIGINAL-URL:https://n-a-m.co.uk
X-WR-CALDESC:Events for Norfolk Advanced Motorcyclists
REFRESH-INTERVAL;VALUE=DURATION:PT1H
X-Robots-Tag:noindex
X-PUBLISHED-TTL:PT1H
BEGIN:VTIMEZONE
TZID:UTC
BEGIN:STANDARD
TZOFFSETFROM:+0000
TZOFFSETTO:+0000
TZNAME:UTC
DTSTART:20220101T000000
END:STANDARD
END:VTIMEZONE
BEGIN:VEVENT
DTSTART;TZID=UTC:20231105T090000
DTEND;TZID=UTC:20231105T120000
DTSTAMP:20260422T084038
CREATED:20231004T094051Z
LAST-MODIFIED:20231004T094452Z
UID:1837-1699174800-1699185600@n-a-m.co.uk
SUMMARY:NAM Organised Sunday Ride to Stonham Barns\, Stonham
DESCRIPTION:South24 Stonham Aspal 05.11.23 – MyRoute-app Web (myrouteapp.com)\nObservers TBC
URL:https://n-a-m.co.uk/event/nam-organised-sunday-ride-to-stonham-barns-stonham/
CATEGORIES:Sunday rides
END:VEVENT
BEGIN:VEVENT
DTSTART;TZID=UTC:20231112T090000
DTEND;TZID=UTC:20231112T120000
DTSTAMP:20260422T084038
CREATED:20231004T094154Z
LAST-MODIFIED:20231004T094551Z
UID:1839-1699779600-1699790400@n-a-m.co.uk
SUMMARY:NAM Organised Sunday Ride to Angel Cafe\, Diss
DESCRIPTION:South06 Diss 12.11.23 – MyRoute-app Web (myrouteapp.com)\nObservers TBC
URL:https://n-a-m.co.uk/event/nam-organised-sunday-ride-to-angel-cafe-diss/
CATEGORIES:Sunday rides
END:VEVENT
BEGIN:VEVENT
DTSTART;TZID=UTC:20231119T090000
DTEND;TZID=UTC:20231119T120000
DTSTAMP:20260422T084038
CREATED:20231004T094702Z
LAST-MODIFIED:20231004T094702Z
UID:1841-1700384400-1700395200@n-a-m.co.uk
SUMMARY:NAM Organised Sunday Ride to Aylsham Garden Centre\, Aylsham
DESCRIPTION:North11 Aylsham 19.11.23 – MyRoute-app Web (myrouteapp.com)\nObservers TBC
URL:https://n-a-m.co.uk/event/nam-organised-sunday-ride-to-aylsham-garden-centre-aylsham/
CATEGORIES:Sunday rides
END:VEVENT
BEGIN:VEVENT
DTSTART;TZID=UTC:20231126T090000
DTEND;TZID=UTC:20231126T120000
DTSTAMP:20260422T084038
CREATED:20231004T094830Z
LAST-MODIFIED:20231004T094830Z
UID:1843-1700989200-1701000000@n-a-m.co.uk
SUMMARY:NAM Organised Sunday Ride to Bressingham Garden Centre\, Bressingham
DESCRIPTION:South13 Bressingham 26.11.23 – MyRoute-app Web (myrouteapp.com)\nObservers TBC
URL:https://n-a-m.co.uk/event/nam-organised-sunday-ride-to-bressingham-garden-centre-bressingham/
CATEGORIES:Sunday rides
END:VEVENT
END:VCALENDAR