BEGIN:VCALENDAR
VERSION:2.0
PRODID:-//Norfolk Advanced Motorcyclists - ECPv6.15.20//NONSGML v1.0//EN
CALSCALE:GREGORIAN
METHOD:PUBLISH
X-WR-CALNAME:Norfolk Advanced Motorcyclists
X-ORIGINAL-URL:https://n-a-m.co.uk
X-WR-CALDESC:Events for Norfolk Advanced Motorcyclists
REFRESH-INTERVAL;VALUE=DURATION:PT1H
X-Robots-Tag:noindex
X-PUBLISHED-TTL:PT1H
BEGIN:VTIMEZONE
TZID:UTC
BEGIN:STANDARD
TZOFFSETFROM:+0000
TZOFFSETTO:+0000
TZNAME:UTC
DTSTART:20220101T000000
END:STANDARD
END:VTIMEZONE
BEGIN:VEVENT
DTSTART;TZID=UTC:20231203T090000
DTEND;TZID=UTC:20231203T120000
DTSTAMP:20260422T071149
CREATED:20231004T095018Z
LAST-MODIFIED:20231004T095018Z
UID:1845-1701594000-1701604800@n-a-m.co.uk
SUMMARY:NAM Organised Sunday Ride to Creake Abbey\, North Creake
DESCRIPTION:North08 North Creake 03.12.23 – MyRoute-app Web (myrouteapp.com)\nObservers TBC
URL:https://n-a-m.co.uk/event/nam-organised-sunday-ride-to-creake-abbey-north-creake/
CATEGORIES:Sunday rides
END:VEVENT
BEGIN:VEVENT
DTSTART;TZID=UTC:20231210T090000
DTEND;TZID=UTC:20231210T120000
DTSTAMP:20260422T071149
CREATED:20231004T095120Z
LAST-MODIFIED:20231004T095120Z
UID:1847-1702198800-1702209600@n-a-m.co.uk
SUMMARY:NAM Organised Sunday Ride to Route 11 Cafe\, Attleborough
DESCRIPTION:South12 Attleborough 10.12.23 – MyRoute-app Web (myrouteapp.com)\nObservers TBC
URL:https://n-a-m.co.uk/event/nam-organised-sunday-ride-to-route-11-cafe-attleborough/
CATEGORIES:Sunday rides
END:VEVENT
BEGIN:VEVENT
DTSTART;TZID=UTC:20231217T090000
DTEND;TZID=UTC:20231217T120000
DTSTAMP:20260422T071149
CREATED:20231004T095209Z
LAST-MODIFIED:20231004T095209Z
UID:1849-1702803600-1702814400@n-a-m.co.uk
SUMMARY:NAM Organised Sunday Ride to Cafe Verde\, Mattishall
DESCRIPTION:West12 Mattishall 17.12.23 – MyRoute-app Web (myrouteapp.com)\nObservers TBC
URL:https://n-a-m.co.uk/event/nam-organised-sunday-ride-to-cafe-verde-mattishall/
CATEGORIES:Sunday rides
END:VEVENT
BEGIN:VEVENT
DTSTART;TZID=UTC:20231224T090000
DTEND;TZID=UTC:20231224T120000
DTSTAMP:20260422T071149
CREATED:20231004T095303Z
LAST-MODIFIED:20231004T095303Z
UID:1851-1703408400-1703419200@n-a-m.co.uk
SUMMARY:NAM Organised Sunday Ride to Swallow Aquatics\, East Harling
DESCRIPTION:South25 East Harling 24.12.23 – MyRoute-app Web (myrouteapp.com)\nObservers TBC
URL:https://n-a-m.co.uk/event/nam-organised-sunday-ride-to-swallow-aquatics-east-harling/
CATEGORIES:Sunday rides
END:VEVENT
BEGIN:VEVENT
DTSTART;TZID=UTC:20231231T090000
DTEND;TZID=UTC:20231231T120000
DTSTAMP:20260422T071149
CREATED:20231004T095358Z
LAST-MODIFIED:20231004T095358Z
UID:1853-1704013200-1704024000@n-a-m.co.uk
SUMMARY:NAM Organised Sunday Ride to Lighthouse Cafe\, Hunstanton
DESCRIPTION:West11 Hunstanton 31.12.23 – MyRoute-app Web (myrouteapp.com)\nObservers TBC
URL:https://n-a-m.co.uk/event/nam-organised-sunday-ride-to-lighthouse-cafe-hunstanton/
CATEGORIES:Sunday rides
END:VEVENT
END:VCALENDAR