BEGIN:VCALENDAR
VERSION:2.0
PRODID:-//Norfolk Advanced Motorcyclists - ECPv6.15.20//NONSGML v1.0//EN
CALSCALE:GREGORIAN
METHOD:PUBLISH
X-ORIGINAL-URL:https://n-a-m.co.uk
X-WR-CALDESC:Events for Norfolk Advanced Motorcyclists
REFRESH-INTERVAL;VALUE=DURATION:PT1H
X-Robots-Tag:noindex
X-PUBLISHED-TTL:PT1H
BEGIN:VTIMEZONE
TZID:UTC
BEGIN:STANDARD
TZOFFSETFROM:+0000
TZOFFSETTO:+0000
TZNAME:UTC
DTSTART:20230101T000000
END:STANDARD
END:VTIMEZONE
BEGIN:VEVENT
DTSTART;TZID=UTC:20240107T090000
DTEND;TZID=UTC:20240107T120000
DTSTAMP:20260422T055002
CREATED:20240118T145212Z
LAST-MODIFIED:20240118T145212Z
UID:1957-1704618000-1704628800@n-a-m.co.uk
SUMMARY:NAM Organised Sunday Ride to Burnham Deepdale Cafe\, Burnham Deepdale
DESCRIPTION:https://www.myrouteapp.com/route/open/8350942\n  \nObservers TBC
URL:https://n-a-m.co.uk/event/nam-organised-sunday-ride-to-burnham-deepdale-cafe-burnham-deepdale/
CATEGORIES:Sunday rides
END:VEVENT
BEGIN:VEVENT
DTSTART;TZID=UTC:20240114T090000
DTEND;TZID=UTC:20240114T120000
DTSTAMP:20260422T055002
CREATED:20240118T145034Z
LAST-MODIFIED:20240118T145034Z
UID:1955-1705222800-1705233600@n-a-m.co.uk
SUMMARY:NAM Organised Sunday Ride to Reepham Station Cafe\, Reepham
DESCRIPTION:https://www.myrouteapp.com/route/open/8350939\n  \nObservers TBC
URL:https://n-a-m.co.uk/event/nam-organised-sunday-ride-to-reepham-station-cafe-reepham/
CATEGORIES:Sunday rides
END:VEVENT
BEGIN:VEVENT
DTSTART;TZID=UTC:20240121T090000
DTEND;TZID=UTC:20240121T120000
DTSTAMP:20260422T055002
CREATED:20240118T144201Z
LAST-MODIFIED:20240118T144412Z
UID:1948-1705827600-1705838400@n-a-m.co.uk
SUMMARY:NAM Organised Sunday Ride to Station Bistro\, Wymondham
DESCRIPTION:https://www.myrouteapp.com/route/open/8350941\n  \nObservers TBC
URL:https://n-a-m.co.uk/event/nam-organised-sunday-ride-to-station-bistro-wymondham/
CATEGORIES:Sunday rides
END:VEVENT
BEGIN:VEVENT
DTSTART;TZID=UTC:20240128T090000
DTEND;TZID=UTC:20240128T120000
DTSTAMP:20260422T055002
CREATED:20240118T144835Z
LAST-MODIFIED:20240118T144835Z
UID:1953-1706432400-1706443200@n-a-m.co.uk
SUMMARY:NAM Organised Sunday Ride to Aylsham Garden Centre Cafe\, Aylsham
DESCRIPTION:https://www.myrouteapp.com/route/open/8350939\n  \nObservers TBC
URL:https://n-a-m.co.uk/event/nam-organised-sunday-ride-to-aylsham-garden-centre-cafe-aylsham/
CATEGORIES:Sunday rides
END:VEVENT
END:VCALENDAR