BEGIN:VCALENDAR
VERSION:2.0
PRODID:-//Norfolk Advanced Motorcyclists - ECPv6.15.20//NONSGML v1.0//EN
CALSCALE:GREGORIAN
METHOD:PUBLISH
X-WR-CALNAME:Norfolk Advanced Motorcyclists
X-ORIGINAL-URL:https://n-a-m.co.uk
X-WR-CALDESC:Events for Norfolk Advanced Motorcyclists
REFRESH-INTERVAL;VALUE=DURATION:PT1H
X-Robots-Tag:noindex
X-PUBLISHED-TTL:PT1H
BEGIN:VTIMEZONE
TZID:UTC
BEGIN:STANDARD
TZOFFSETFROM:+0000
TZOFFSETTO:+0000
TZNAME:UTC
DTSTART:20220101T000000
END:STANDARD
END:VTIMEZONE
BEGIN:VEVENT
DTSTART;TZID=UTC:20231224T090000
DTEND;TZID=UTC:20231224T120000
DTSTAMP:20260422T084124
CREATED:20231004T095303Z
LAST-MODIFIED:20231004T095303Z
UID:1851-1703408400-1703419200@n-a-m.co.uk
SUMMARY:NAM Organised Sunday Ride to Swallow Aquatics\, East Harling
DESCRIPTION:South25 East Harling 24.12.23 – MyRoute-app Web (myrouteapp.com)\nObservers TBC
URL:https://n-a-m.co.uk/event/nam-organised-sunday-ride-to-swallow-aquatics-east-harling/
CATEGORIES:Sunday rides
END:VEVENT
END:VCALENDAR