BEGIN:VCALENDAR
VERSION:2.0
PRODID:-//Norfolk Advanced Motorcyclists - ECPv6.15.20//NONSGML v1.0//EN
CALSCALE:GREGORIAN
METHOD:PUBLISH
X-ORIGINAL-URL:https://n-a-m.co.uk
X-WR-CALDESC:Events for Norfolk Advanced Motorcyclists
REFRESH-INTERVAL;VALUE=DURATION:PT1H
X-Robots-Tag:noindex
X-PUBLISHED-TTL:PT1H
BEGIN:VTIMEZONE
TZID:UTC
BEGIN:STANDARD
TZOFFSETFROM:+0000
TZOFFSETTO:+0000
TZNAME:UTC
DTSTART:20230101T000000
END:STANDARD
END:VTIMEZONE
BEGIN:VEVENT
DTSTART;TZID=UTC:20240204T090000
DTEND;TZID=UTC:20240204T120000
DTSTAMP:20260422T230125
CREATED:20240126T144708Z
LAST-MODIFIED:20240126T144708Z
UID:1971-1707037200-1707048000@n-a-m.co.uk
SUMMARY:NAM Organised Sunday Ride to Lathams Cafe\, Potter Heigham
DESCRIPTION:https://www.myrouteapp.com/route/open/8553036\n  \n  \n 
URL:https://n-a-m.co.uk/event/nam-organised-sunday-ride-to-lathams-cafe-potter-heigham/
CATEGORIES:Sunday rides
END:VEVENT
BEGIN:VEVENT
DTSTART;TZID=UTC:20240211T090000
DTEND;TZID=UTC:20240211T120000
DTSTAMP:20260422T230125
CREATED:20240126T144842Z
LAST-MODIFIED:20240126T144842Z
UID:1973-1707642000-1707652800@n-a-m.co.uk
SUMMARY:NAM Organised Sunday Ride to Swaffham Cafe\, Market Place\, Swaffham
DESCRIPTION:https://www.myrouteapp.com/route/open/8553037\n  \n  \n 
URL:https://n-a-m.co.uk/event/nam-organised-sunday-ride-to-swaffham-cafe-market-place-swaffham/
CATEGORIES:Sunday rides
END:VEVENT
BEGIN:VEVENT
DTSTART;TZID=UTC:20240218T090000
DTEND;TZID=UTC:20240218T120000
DTSTAMP:20260422T230125
CREATED:20240126T145016Z
LAST-MODIFIED:20240126T145016Z
UID:1975-1708246800-1708257600@n-a-m.co.uk
SUMMARY:NAM Organised Sunday Ride to The New Forge\, Aylsham
DESCRIPTION:https://www.myrouteapp.com/route/open/8553038\n  \n  \n 
URL:https://n-a-m.co.uk/event/nam-organised-sunday-ride-to-the-new-forge-aylsham/
CATEGORIES:Sunday rides
END:VEVENT
BEGIN:VEVENT
DTSTART;TZID=UTC:20240225T090000
DTEND;TZID=UTC:20240225T120000
DTSTAMP:20260422T230125
CREATED:20240126T145304Z
LAST-MODIFIED:20240126T145304Z
UID:1977-1708851600-1708862400@n-a-m.co.uk
SUMMARY:NAM Organised Sunday Ride to Kingfisher Cafe\, Walcott
DESCRIPTION:https://www.myrouteapp.com/route/open/8553039 \n  \n 
URL:https://n-a-m.co.uk/event/nam-organised-sunday-ride-to-kingfisher-cafe-walcott/
CATEGORIES:Sunday rides
END:VEVENT
BEGIN:VEVENT
DTSTART;TZID=UTC:20240303T090000
DTEND;TZID=UTC:20240303T120000
DTSTAMP:20260422T230125
CREATED:20240229T200004Z
LAST-MODIFIED:20240229T200004Z
UID:2061-1709456400-1709467200@n-a-m.co.uk
SUMMARY:NAM Organised Sunday Ride to Cafe 33\, Stradishall
DESCRIPTION:South11 Stradishall 03.03.24 – MyRoute-app Web (myrouteapp.com) \n  \n  \n 
URL:https://n-a-m.co.uk/event/nam-organised-sunday-ride-to-cafe-33-stradishall/
CATEGORIES:Sunday rides
END:VEVENT
BEGIN:VEVENT
DTSTART;TZID=UTC:20240310T090000
DTEND;TZID=UTC:20240310T120000
DTSTAMP:20260422T230125
CREATED:20240229T200353Z
LAST-MODIFIED:20240229T200353Z
UID:2063-1710061200-1710072000@n-a-m.co.uk
SUMMARY:NAM Organised Sunday Ride to Valley Farm Equestrian\, Wickham Market
DESCRIPTION:South15 Wickham Market 10.03.24 – MyRoute-app Web (myrouteapp.com) \n  \n  \n 
URL:https://n-a-m.co.uk/event/nam-organised-sunday-ride-to-valley-farm-equestrian-wickham-market/
CATEGORIES:Sunday rides
END:VEVENT
BEGIN:VEVENT
DTSTART;TZID=UTC:20240317T090000
DTEND;TZID=UTC:20240317T120000
DTSTAMP:20260422T230125
CREATED:20240229T200646Z
LAST-MODIFIED:20240229T200646Z
UID:2065-1710666000-1710676800@n-a-m.co.uk
SUMMARY:NAM Organised Sunday Ride to Angel Cafe\, Diss
DESCRIPTION:South06 Diss 17.03.24 – MyRoute-app Web (myrouteapp.com) \n  \n 
URL:https://n-a-m.co.uk/event/nam-organised-sunday-ride-to-angel-cafe-diss-2/
CATEGORIES:Sunday rides
END:VEVENT
BEGIN:VEVENT
DTSTART;TZID=UTC:20240324T090000
DTEND;TZID=UTC:20240324T120000
DTSTAMP:20260422T230125
CREATED:20240229T200831Z
LAST-MODIFIED:20240229T200831Z
UID:2067-1711270800-1711281600@n-a-m.co.uk
SUMMARY:NAM Organised Sunday Ride to Arbuckles\, Downham Market
DESCRIPTION:west11 Downham Market 24.03.24 – MyRoute-app Web (myrouteapp.com) \n  \n  \n 
URL:https://n-a-m.co.uk/event/nam-organised-sunday-ride-to-arbuckles-downham-market/
CATEGORIES:Sunday rides
END:VEVENT
BEGIN:VEVENT
DTSTART;TZID=UTC:20240331T090000
DTEND;TZID=UTC:20240331T120000
DTSTAMP:20260422T230125
CREATED:20240229T201006Z
LAST-MODIFIED:20240229T201006Z
UID:2069-1711875600-1711886400@n-a-m.co.uk
SUMMARY:NAM Organised Sunday Ride to Dunwich Beach Tearooms\, Dunwich
DESCRIPTION:East05 Dunwich 31.03.24 – MyRoute-app Web (myrouteapp.com) \n  \n  \n 
URL:https://n-a-m.co.uk/event/nam-organised-sunday-ride-to-dunwich-beach-tearooms-dunwich/
CATEGORIES:Sunday rides
END:VEVENT
BEGIN:VEVENT
DTSTART;TZID=UTC:20240407T090000
DTEND;TZID=UTC:20240407T120000
DTSTAMP:20260422T230125
CREATED:20240229T201154Z
LAST-MODIFIED:20240229T201154Z
UID:2071-1712480400-1712491200@n-a-m.co.uk
SUMMARY:NAM Organised Sunday Ride to Posh Pigs\, Beccles
DESCRIPTION:East02 Beccles 07.04.24 – MyRoute-app Web (myrouteapp.com) \n  \n  \n 
URL:https://n-a-m.co.uk/event/nam-organised-sunday-ride-to-posh-pigs-beccles/
CATEGORIES:Sunday rides
END:VEVENT
BEGIN:VEVENT
DTSTART;TZID=UTC:20240414T090000
DTEND;TZID=UTC:20240414T120000
DTSTAMP:20260422T230125
CREATED:20240229T201317Z
LAST-MODIFIED:20240229T201317Z
UID:2073-1713085200-1713096000@n-a-m.co.uk
SUMMARY:NAM Organised Sunday Ride to Wiveton Hall Cafe\, Wiveton
DESCRIPTION:North13 Blakeney 14.04.24 – MyRoute-app Web (myrouteapp.com) \n  \n  \n 
URL:https://n-a-m.co.uk/event/nam-organised-sunday-ride-to-wiveton-hall-cafe-wiveton/
CATEGORIES:Sunday rides
END:VEVENT
BEGIN:VEVENT
DTSTART;TZID=UTC:20240421T090000
DTEND;TZID=UTC:20240421T120000
DTSTAMP:20260422T230125
CREATED:20240229T201424Z
LAST-MODIFIED:20240229T201424Z
UID:2075-1713690000-1713700800@n-a-m.co.uk
SUMMARY:NAM Organised Sunday Ride to The Kitchen\, Thorpeness
DESCRIPTION:south22 Thorpeness 21.04.24 – MyRoute-app Web (myrouteapp.com) \n  \n  \n  \n 
URL:https://n-a-m.co.uk/event/nam-organised-sunday-ride-to-the-kitchen-thorpeness/
CATEGORIES:Sunday rides
END:VEVENT
BEGIN:VEVENT
DTSTART;TZID=UTC:20240428T090000
DTEND;TZID=UTC:20240428T120000
DTSTAMP:20260422T230125
CREATED:20240229T201606Z
LAST-MODIFIED:20240229T201606Z
UID:2077-1714294800-1714305600@n-a-m.co.uk
SUMMARY:NAM Organised Sunday Ride to King's Head Cafe\, Shipdham
DESCRIPTION:West05 Shipdham 28.04.24 – MyRoute-app Web (myrouteapp.com) \n  \n  \n  \n 
URL:https://n-a-m.co.uk/event/nam-organised-sunday-ride-to-kings-head-cafe-shipdham-2/
CATEGORIES:Sunday rides
END:VEVENT
BEGIN:VEVENT
DTSTART;TZID=UTC:20240519T090000
DTEND;TZID=UTC:20240519T120000
DTSTAMP:20260422T230125
CREATED:20240517T112106Z
LAST-MODIFIED:20240517T112106Z
UID:2249-1716109200-1716120000@n-a-m.co.uk
SUMMARY:NAM Organised Sunday Ride to Swallow Aquatics\, East Harling
DESCRIPTION:https://www.myrouteapp.com/en/social/route/8650893 \n 
URL:https://n-a-m.co.uk/event/nam-organised-sunday-ride-to-swallow-aquatics-east-harling-2/
CATEGORIES:Sunday rides
END:VEVENT
BEGIN:VEVENT
DTSTART;TZID=UTC:20240526T090000
DTEND;TZID=UTC:20240526T120000
DTSTAMP:20260422T230125
CREATED:20240517T112255Z
LAST-MODIFIED:20240517T112255Z
UID:2251-1716714000-1716724800@n-a-m.co.uk
SUMMARY:NAM Organised Sunday Ride to Browns Cafe\, Mundford
DESCRIPTION:https://www.myrouteapp.com/en/social/route/8650892 \n 
URL:https://n-a-m.co.uk/event/nam-organised-sunday-ride-to-browns-cafe-mundford/
CATEGORIES:Sunday rides
END:VEVENT
BEGIN:VEVENT
DTSTART;TZID=UTC:20240602T090000
DTEND;TZID=UTC:20240602T120000
DTSTAMP:20260422T230125
CREATED:20240517T112411Z
LAST-MODIFIED:20240517T112411Z
UID:2253-1717318800-1717329600@n-a-m.co.uk
SUMMARY:NAM Organised Sunday Ride to Walkers Snacks\, Barton Mills
DESCRIPTION:https://www.myrouteapp.com/en/social/route/8650891 \n 
URL:https://n-a-m.co.uk/event/nam-organised-sunday-ride-to-walkers-snacks-barton-mills/
CATEGORIES:Sunday rides
END:VEVENT
BEGIN:VEVENT
DTSTART;TZID=UTC:20240609T090000
DTEND;TZID=UTC:20240609T120000
DTSTAMP:20260422T230125
CREATED:20240517T112508Z
LAST-MODIFIED:20240517T112508Z
UID:2255-1717923600-1717934400@n-a-m.co.uk
SUMMARY:NAM Organised Sunday Ride to Silver Ball Cafe\, Reed
DESCRIPTION:https://www.myrouteapp.com/en/social/route/8650968 \n 
URL:https://n-a-m.co.uk/event/nam-organised-sunday-ride-to-silver-ball-cafe-reed/
CATEGORIES:Sunday rides
END:VEVENT
BEGIN:VEVENT
DTSTART;TZID=UTC:20240616T090000
DTEND;TZID=UTC:20240616T120000
DTSTAMP:20260422T230125
CREATED:20240517T112557Z
LAST-MODIFIED:20240517T112557Z
UID:2257-1718528400-1718539200@n-a-m.co.uk
SUMMARY:NAM Organised Sunday Ride to Old Hall Farm Cafe\, Southwold
DESCRIPTION:https://www.myrouteapp.com/en/social/route/8651112 \n 
URL:https://n-a-m.co.uk/event/nam-organised-sunday-ride-to-old-hall-farm-cafe-southwold/
CATEGORIES:Sunday rides
END:VEVENT
BEGIN:VEVENT
DTSTART;TZID=UTC:20240623T090000
DTEND;TZID=UTC:20240623T120000
DTSTAMP:20260422T230125
CREATED:20240517T112650Z
LAST-MODIFIED:20240517T112650Z
UID:2259-1719133200-1719144000@n-a-m.co.uk
SUMMARY:NAM Organised Sunday Ride to Welney Wet Centre\, Welney
DESCRIPTION:https://www.myrouteapp.com/en/social/route/8706514 \n 
URL:https://n-a-m.co.uk/event/nam-organised-sunday-ride-to-welney-wet-centre-welney/
CATEGORIES:Sunday rides
END:VEVENT
BEGIN:VEVENT
DTSTART;TZID=UTC:20240630T090000
DTEND;TZID=UTC:20240630T120000
DTSTAMP:20260422T230125
CREATED:20240517T112742Z
LAST-MODIFIED:20240517T112742Z
UID:2261-1719738000-1719748800@n-a-m.co.uk
SUMMARY:NAM Organised Sunday Ride to Riverside Tearoom\, Orford
DESCRIPTION:https://www.myrouteapp.com/en/social/route/8706512 \n 
URL:https://n-a-m.co.uk/event/nam-organised-sunday-ride-to-riverside-tearoom-orford/
CATEGORIES:Sunday rides
END:VEVENT
BEGIN:VEVENT
DTSTART;TZID=UTC:20240707T090000
DTEND;TZID=UTC:20240707T120000
DTSTAMP:20260422T230125
CREATED:20240517T112838Z
LAST-MODIFIED:20240517T112838Z
UID:2263-1720342800-1720353600@n-a-m.co.uk
SUMMARY:NAM Organised Sunday Ride to The Fox Public House\, Finchingfield
DESCRIPTION:https://www.myrouteapp.com/en/social/route/8706511 \n 
URL:https://n-a-m.co.uk/event/nam-organised-sunday-ride-to-the-fox-public-house-finchingfield/
CATEGORIES:Sunday rides
END:VEVENT
BEGIN:VEVENT
DTSTART;TZID=UTC:20240714T090000
DTEND;TZID=UTC:20240714T120000
DTSTAMP:20260422T230125
CREATED:20240517T112944Z
LAST-MODIFIED:20240517T112944Z
UID:2265-1720947600-1720958400@n-a-m.co.uk
SUMMARY:NAM Organised Sunday Ride to Chestnuts Coffee\, Tacolneston
DESCRIPTION:https://www.myrouteapp.com/en/social/route/8706509 \n 
URL:https://n-a-m.co.uk/event/nam-organised-sunday-ride-to-chestnuts-coffee-tacolneston/
CATEGORIES:Sunday rides
END:VEVENT
BEGIN:VEVENT
DTSTART;TZID=UTC:20240808T100000
DTEND;TZID=UTC:20240808T130000
DTSTAMP:20260422T230125
CREATED:20240730T075410Z
LAST-MODIFIED:20240730T075501Z
UID:2427-1723111200-1723122000@n-a-m.co.uk
SUMMARY:NAM Social Event - Weekday Ride to Browns Cafe\, Mundford
DESCRIPTION:WHEN: Thursday 08 August \nWHERE ARE WE GOING: Browns Cafe\, Mundford \nWHAT TIME: Meet at 10:00 at Thickthorn McDonalds Carpark\, to start ride at 10:15. \nROUTE: https://www.myrouteapp.com/route/open/8709572 \n 
URL:https://n-a-m.co.uk/event/nam-organised-weekday-ride-to-browns-cafe-mundford/
CATEGORIES:Sunday rides
END:VEVENT
BEGIN:VEVENT
DTSTART;TZID=UTC:20240901T090000
DTEND;TZID=UTC:20240901T120000
DTSTAMP:20260422T230125
CREATED:20240828T095835Z
LAST-MODIFIED:20240828T095835Z
UID:1860-1725181200-1725192000@n-a-m.co.uk
SUMMARY:NAM Organised Sunday Ride to Cafe 24\, Stonham Barns
DESCRIPTION:MyRoute-app: The #1 all-in-one route tool (myrouteapp.com)
URL:https://n-a-m.co.uk/event/nam-organised-sunday-ride-to-cafe-24-stonham-barns/
CATEGORIES:Sunday rides
END:VEVENT
BEGIN:VEVENT
DTSTART;TZID=UTC:20240908T090000
DTEND;TZID=UTC:20240908T120000
DTSTAMP:20260422T230125
CREATED:20240828T100451Z
LAST-MODIFIED:20240828T100451Z
UID:2503-1725786000-1725796800@n-a-m.co.uk
SUMMARY:NAM Organised Sunday Ride to New Forge or the Garden Centre\, Aylsham
DESCRIPTION:https://www.myrouteapp.com/en/social/route/8706499?mode=share \n  \n  \n  \n 
URL:https://n-a-m.co.uk/event/nam-organised-sunday-ride-to-new-forge-or-the-garden-centre-aylsham/
CATEGORIES:Sunday rides
END:VEVENT
BEGIN:VEVENT
DTSTART;TZID=UTC:20240922T090000
DTEND;TZID=UTC:20240922T120000
DTSTAMP:20260422T230125
CREATED:20240828T100801Z
LAST-MODIFIED:20240828T100801Z
UID:2506-1726995600-1727006400@n-a-m.co.uk
SUMMARY:NAM Organised Sunday Ride to Arbuckles\, Downham Market
DESCRIPTION:24.09.22 W13 Downham Market – Arbuckles – MyRoute-app Web (myrouteapp.com) \n  \n  \n  \n  \n 
URL:https://n-a-m.co.uk/event/nam-organised-sunday-ride-to-arbuckles-downham-market-2/
CATEGORIES:Sunday rides
END:VEVENT
BEGIN:VEVENT
DTSTART;TZID=UTC:20240929T090000
DTEND;TZID=UTC:20240929T120000
DTSTAMP:20260422T230125
CREATED:20240828T100908Z
LAST-MODIFIED:20240828T100908Z
UID:2508-1727600400-1727611200@n-a-m.co.uk
SUMMARY:NAM Organised Sunday Ride to Lathams Cafe\, Potter Heigham
DESCRIPTION:24.09.29 E09 Potter Heigham – Lathams – MyRoute-app Web (myrouteapp.com) \n  \n  \n  \n 
URL:https://n-a-m.co.uk/event/nam-organised-sunday-ride-to-lathams-cafe-potter-heigham-2/
CATEGORIES:Sunday rides
END:VEVENT
BEGIN:VEVENT
DTSTART;TZID=UTC:20241006T090000
DTEND;TZID=UTC:20241006T120000
DTSTAMP:20260422T230125
CREATED:20240829T092137Z
LAST-MODIFIED:20240829T092137Z
UID:2513-1728205200-1728216000@n-a-m.co.uk
SUMMARY:NAM Organised Sunday Ride to Reepham Station Cafe\, Reepham
DESCRIPTION:MyRoute-app: The #1 all-in-one route tool (myrouteapp.com) \n 
URL:https://n-a-m.co.uk/event/nam-organised-sunday-ride-to-reepham-station-cafe-reepham-2/
CATEGORIES:Sunday rides
END:VEVENT
BEGIN:VEVENT
DTSTART;TZID=UTC:20241013T090000
DTEND;TZID=UTC:20241013T120000
DTSTAMP:20260422T230125
CREATED:20240829T095720Z
LAST-MODIFIED:20240829T095850Z
UID:2515-1728810000-1728820800@n-a-m.co.uk
SUMMARY:NAM Organised Sunday Ride to Sizewell Beach Cafe
DESCRIPTION:24.10.13 E08 Sizewell – Sizewell Beach Cafe – MyRoute-app Web (myrouteapp.com) \n  \n 
URL:https://n-a-m.co.uk/event/nam-organised-sunday-ride-to-sizewell-beach-cafe/
CATEGORIES:Sunday rides
END:VEVENT
BEGIN:VEVENT
DTSTART;TZID=UTC:20241027T090000
DTEND;TZID=UTC:20241027T120000
DTSTAMP:20260422T230125
CREATED:20240829T100643Z
LAST-MODIFIED:20240829T100643Z
UID:2519-1730019600-1730030400@n-a-m.co.uk
SUMMARY:NAM Organised Sunday Ride to Cliff Top Cafe\, Hunstanton
DESCRIPTION:24.10.27 W11 Hunstanton – Cliff top Cafe – MyRoute-app Web (myrouteapp.com) \n 
URL:https://n-a-m.co.uk/event/nam-organised-sunday-ride-to-cliff-top-cafe-hunstanton/
CATEGORIES:Sunday rides
END:VEVENT
END:VCALENDAR